Workbook

Sheet How to use
A1: Revenue chart practice workbook (parityai.pro/blog/revenue-chart)
A2: Example data: Harrow Hardware is a fictional hardware store. All numbers are made up for practice.
A4: Sheets
A5: Data: one row per month, Jan 2024 to Sep 2026. Type into the blue-headed columns (Month, Revenue, One-off); the rest are formulas.
A6: YTD compare: one row per month of the year, cumulative revenue this year and last year side by side.
A7: Charts: the three charts from the post, built from those two sheets.
A8: Your data: the same layout, empty, with the formulas ready. Paste your own months in.
A10: Columns on Data
A11: Month: the first day of each month, as a real date (not text).
A12: Revenue: net revenue for the month, from your books (see parityai.pro/blog/how-to-calculate-revenue).
A13: One-off: anything that will not repeat (a single large order, an insurance payout booked as income). Leave blank if none.
A14: Everyday revenue = Revenue - One-off.
... A21: In YTD compare, change the two year cells (B1 and C1) and the latest-month cell (F2) when a new year starts.

Sheet Data
A1: Month | B1: Revenue | C1: One-off | D1: Everyday revenue | E1: Trailing 12 months | F1: Year | G1: Month no. | H1: YTD | J1: Note
A2: 45292 | B2: 75600 | D2: =IF(B2="","",B2-N(C2)) | F2: =IF(A2="","",YEAR(A2)) | G2: =IF(A2="","",MONTH(A2)) | H2: =IF(B2="","",SUMIFS($B$2:$B$34,$F$2:$F$34,F2,$G$2:$G$34,"<="&G2)) | J2: Mar 2026 one-off: $34,000 school-district order.
A3: 45323 | B3: 76300 | D3: =IF(B3="","",B3-N(C3)) | F3: =IF(A3="","",YEAR(A3)) | G3: =IF(A3="","",MONTH(A3)) | H3: =IF(B3="","",SUMIFS($B$2:$B$34,$F$2:$F$34,F3,$G$2:$G$34,"<="&G3)) | J3: Trailing 12 months is blank until 12 months of data exist (rows 2-12).
A4: 45352 | B4: 96700 | D4: =IF(B4="","",B4-N(C4)) | F4: =IF(A4="","",YEAR(A4)) | G4: =IF(A4="","",MONTH(A4)) | H4: =IF(B4="","",SUMIFS($B$2:$B$34,$F$2:$F$34,F4,$G$2:$G$34,"<="&G4))
A5: 45383 | B5: 108500 | D5: =IF(B5="","",B5-N(C5)) | F5: =IF(A5="","",YEAR(A5)) | G5: =IF(A5="","",MONTH(A5)) | H5: =IF(B5="","",SUMIFS($B$2:$B$34,$F$2:$F$34,F5,$G$2:$G$34,"<="&G5))
A6: 45413 | B6: 119000 | D6: =IF(B6="","",B6-N(C6)) | F6: =IF(A6="","",YEAR(A6)) | G6: =IF(A6="","",MONTH(A6)) | H6: =IF(B6="","",SUMIFS($B$2:$B$34,$F$2:$F$34,F6,$G$2:$G$34,"<="&G6))
A7: 45444 | B7: 117000 | D7: =IF(B7="","",B7-N(C7)) | F7: =IF(A7="","",YEAR(A7)) | G7: =IF(A7="","",MONTH(A7)) | H7: =IF(B7="","",SUMIFS($B$2:$B$34,$F$2:$F$34,F7,$G$2:$G$34,"<="&G7))
A8: 45474 | B8: 101100 | D8: =IF(B8="","",B8-N(C8)) | F8: =IF(A8="","",YEAR(A8)) | G8: =IF(A8="","",MONTH(A8)) | H8: =IF(B8="","",SUMIFS($B$2:$B$34,$F$2:$F$34,F8,$G$2:$G$34,"<="&G8))
A9: 45505 | B9: 99700 | D9: =IF(B9="","",B9-N(C9)) | F9: =IF(A9="","",YEAR(A9)) | G9: =IF(A9="","",MONTH(A9)) | H9: =IF(B9="","",SUMIFS($B$2:$B$34,$F$2:$F$34,F9,$G$2:$G$34,"<="&G9))
A10: 45536 | B10: 94200 | D10: =IF(B10="","",B10-N(C10)) | F10: =IF(A10="","",YEAR(A10)) | G10: =IF(A10="","",MONTH(A10)) | H10: =IF(B10="","",SUMIFS($B$2:$B$34,$F$2:$F$34,F10,$G$2:$G$34,"<="&G10))
A11: 45566 | B11: 99500 | D11: =IF(B11="","",B11-N(C11)) | F11: =IF(A11="","",YEAR(A11)) | G11: =IF(A11="","",MONTH(A11)) | H11: =IF(B11="","",SUMIFS($B$2:$B$34,$F$2:$F$34,F11,$G$2:$G$34,"<="&G11))
A12: 45597 | B12: 92000 | D12: =IF(B12="","",B12-N(C12)) | F12: =IF(A12="","",YEAR(A12)) | G12: =IF(A12="","",MONTH(A12)) | H12: =IF(B12="","",SUMIFS($B$2:$B$34,$F$2:$F$34,F12,$G$2:$G$34,"<="&G12))
A13: 45627 | B13: 98300 | D13: =IF(B13="","",B13-N(C13)) | E13: =IF(COUNT(B2:B13)=12,SUM(B2:B13),"") | F13: =IF(A13="","",YEAR(A13)) | G13: =IF(A13="","",MONTH(A13)) | H13: =IF(B13="","",SUMIFS($B$2:$B$34,$F$2:$F$34,F13,$G$2:$G$34,"<="&G13))
A14: 45658 | B14: 77800 | D14: =IF(B14="","",B14-N(C14)) | E14: =IF(COUNT(B3:B14)=12,SUM(B3:B14),"") | F14: =IF(A14="","",YEAR(A14)) | G14: =IF(A14="","",MONTH(A14)) | H14: =IF(B14="","",SUMIFS($B$2:$B$34,$F$2:$F$34,F14,$G$2:$G$34,"<="&G14))
A15: 45689 | B15: 82500 | D15: =IF(B15="","",B15-N(C15)) | E15: =IF(COUNT(B4:B15)=12,SUM(B4:B15),"") | F15: =IF(A15="","",YEAR(A15)) | G15: =IF(A15="","",MONTH(A15)) | H15: =IF(B15="","",SUMIFS($B$2:$B$34,$F$2:$F$34,F15,$G$2:$G$34,"<="&G15))
A16: 45717 | B16: 97500 | D16: =IF(B16="","",B16-N(C16)) | E16: =IF(COUNT(B5:B16)=12,SUM(B5:B16),"") | F16: =IF(A16="","",YEAR(A16)) | G16: =IF(A16="","",MONTH(A16)) | H16: =IF(B16="","",SUMIFS($B$2:$B$34,$F$2:$F$34,F16,$G$2:$G$34,"<="&G16))
A17: 45748 | B17: 117400 | D17: =IF(B17="","",B17-N(C17)) | E17: =IF(COUNT(B6:B17)=12,SUM(B6:B17),"") | F17: =IF(A17="","",YEAR(A17)) | G17: =IF(A17="","",MONTH(A17)) | H17: =IF(B17="","",SUMIFS($B$2:$B$34,$F$2:$F$34,F17,$G$2:$G$34,"<="&G17))
A18: 45778 | B18: 128600 | D18: =IF(B18="","",B18-N(C18)) | E18: =IF(COUNT(B7:B18)=12,SUM(B7:B18),"") | F18: =IF(A18="","",YEAR(A18)) | G18: =IF(A18="","",MONTH(A18)) | H18: =IF(B18="","",SUMIFS($B$2:$B$34,$F$2:$F$34,F18,$G$2:$G$34,"<="&G18))
A19: 45809 | B19: 115600 | D19: =IF(B19="","",B19-N(C19)) | E19: =IF(COUNT(B8:B19)=12,SUM(B8:B19),"") | F19: =IF(A19="","",YEAR(A19)) | G19: =IF(A19="","",MONTH(A19)) | H19: =IF(B19="","",SUMIFS($B$2:$B$34,$F$2:$F$34,F19,$G$2:$G$34,"<="&G19))
A20: 45839 | B20: 109300 | D20: =IF(B20="","",B20-N(C20)) | E20: =IF(COUNT(B9:B20)=12,SUM(B9:B20),"") | F20: =IF(A20="","",YEAR(A20)) | G20: =IF(A20="","",MONTH(A20)) | H20: =IF(B20="","",SUMIFS($B$2:$B$34,$F$2:$F$34,F20,$G$2:$G$34,"<="&G20))
A21: 45870 | B21: 105600 | D21: =IF(B21="","",B21-N(C21)) | E21: =IF(COUNT(B10:B21)=12,SUM(B10:B21),"") | F21: =IF(A21="","",YEAR(A21)) | G21: =IF(A21="","",MONTH(A21)) | H21: =IF(B21="","",SUMIFS($B$2:$B$34,$F$2:$F$34,F21,$G$2:$G$34,"<="&G21))
A22: 45901 | B22: 98800 | D22: =IF(B22="","",B22-N(C22)) | E22: =IF(COUNT(B11:B22)=12,SUM(B11:B22),"") | F22: =IF(A22="","",YEAR(A22)) | G22: =IF(A22="","",MONTH(A22)) | H22: =IF(B22="","",SUMIFS($B$2:$B$34,$F$2:$F$34,F22,$G$2:$G$34,"<="&G22))
A23: 45931 | B23: 100300 | D23: =IF(B23="","",B23-N(C23)) | E23: =IF(COUNT(B12:B23)=12,SUM(B12:B23),"") | F23: =IF(A23="","",YEAR(A23)) | G23: =IF(A23="","",MONTH(A23)) | H23: =IF(B23="","",SUMIFS($B$2:$B$34,$F$2:$F$34,F23,$G$2:$G$34,"<="&G23))
A24: 45962 | B24: 99500 | D24: =IF(B24="","",B24-N(C24)) | E24: =IF(COUNT(B13:B24)=12,SUM(B13:B24),"") | F24: =IF(A24="","",YEAR(A24)) | G24: =IF(A24="","",MONTH(A24)) | H24: =IF(B24="","",SUMIFS($B$2:$B$34,$F$2:$F$34,F24,$G$2:$G$34,"<="&G24))
... A27: 46054 | B27: 83200 | D27: =IF(B27="","",B27-N(C27)) | E27: =IF(COUNT(B16:B27)=12,SUM(B16:B27),"") | F27: =IF(A27="","",YEAR(A27)) | G27: =IF(A27="","",MONTH(A27)) | H27: =IF(B27="","",SUMIFS($B$2:$B$34,$F$2:$F$34,F27,$G$2:$G$34,"<="&G27))
A28: 46082 | B28: 138400 | C28: 34000 | D28: =IF(B28="","",B28-N(C28)) | E28: =IF(COUNT(B17:B28)=12,SUM(B17:B28),"") | F28: =IF(A28="","",YEAR(A28)) | G28: =IF(A28="","",MONTH(A28)) | H28: =IF(B28="","",SUMIFS($B$2:$B$34,$F$2:$F$34,F28,$G$2:$G$34,"<="&G28))
A29: 46113 | B29: 123100 | D29: =IF(B29="","",B29-N(C29)) | E29: =IF(COUNT(B18:B29)=12,SUM(B18:B29),"") | F29: =IF(A29="","",YEAR(A29)) | G29: =IF(A29="","",MONTH(A29)) | H29: =IF(B29="","",SUMIFS($B$2:$B$34,$F$2:$F$34,F29,$G$2:$G$34,"<="&G29))
A30: 46143 | B30: 129700 | D30: =IF(B30="","",B30-N(C30)) | E30: =IF(COUNT(B19:B30)=12,SUM(B19:B30),"") | F30: =IF(A30="","",YEAR(A30)) | G30: =IF(A30="","",MONTH(A30)) | H30: =IF(B30="","",SUMIFS($B$2:$B$34,$F$2:$F$34,F30,$G$2:$G$34,"<="&G30))
A31: 46174 | B31: 127500 | D31: =IF(B31="","",B31-N(C31)) | E31: =IF(COUNT(B20:B31)=12,SUM(B20:B31),"") | F31: =IF(A31="","",YEAR(A31)) | G31: =IF(A31="","",MONTH(A31)) | H31: =IF(B31="","",SUMIFS($B$2:$B$34,$F$2:$F$34,F31,$G$2:$G$34,"<="&G31))
A32: 46204 | B32: 112400 | D32: =IF(B32="","",B32-N(C32)) | E32: =IF(COUNT(B21:B32)=12,SUM(B21:B32),"") | F32: =IF(A32="","",YEAR(A32)) | G32: =IF(A32="","",MONTH(A32)) | H32: =IF(B32="","",SUMIFS($B$2:$B$34,$F$2:$F$34,F32,$G$2:$G$34,"<="&G32))
A33: 46235 | B33: 109700 | D33: =IF(B33="","",B33-N(C33)) | E33: =IF(COUNT(B22:B33)=12,SUM(B22:B33),"") | F33: =IF(A33="","",YEAR(A33)) | G33: =IF(A33="","",MONTH(A33)) | H33: =IF(B33="","",SUMIFS($B$2:$B$34,$F$2:$F$34,F33,$G$2:$G$34,"<="&G33))
A34: 46266 | B34: 104700 | D34: =IF(B34="","",B34-N(C34)) | E34: =IF(COUNT(B23:B34)=12,SUM(B23:B34),"") | F34: =IF(A34="","",YEAR(A34)) | G34: =IF(A34="","",MONTH(A34)) | H34: =IF(B34="","",SUMIFS($B$2:$B$34,$F$2:$F$34,F34,$G$2:$G$34,"<="&G34))

Sheet YTD compare
A1: Month | B1: 2025 | C1: 2026 | D1: 2026 without one-offs | F1: Latest month with data (1-12)
A2: Jan | B2: =SUMIFS(Data!$B$2:$B$34,Data!$F$2:$F$34,B$1,Data!$G$2:$G$34,"<="&1) | C2: =IF(1<=$F$2,SUMIFS(Data!$B$2:$B$34,Data!$F$2:$F$34,C$1,Data!$G$2:$G$34,"<="&1),NA()) | D2: =IF(1<=$F$2,SUMIFS(Data!$D$2:$D$34,Data!$F$2:$F$34,C$1,Data!$G$2:$G$34,"<="&1),NA()) | F2: 9
A3: Feb | B3: =SUMIFS(Data!$B$2:$B$34,Data!$F$2:$F$34,B$1,Data!$G$2:$G$34,"<="&2) | C3: =IF(2<=$F$2,SUMIFS(Data!$B$2:$B$34,Data!$F$2:$F$34,C$1,Data!$G$2:$G$34,"<="&2),NA()) | D3: =IF(2<=$F$2,SUMIFS(Data!$D$2:$D$34,Data!$F$2:$F$34,C$1,Data!$G$2:$G$34,"<="&2),NA())
A4: Mar | B4: =SUMIFS(Data!$B$2:$B$34,Data!$F$2:$F$34,B$1,Data!$G$2:$G$34,"<="&3) | C4: =IF(3<=$F$2,SUMIFS(Data!$B$2:$B$34,Data!$F$2:$F$34,C$1,Data!$G$2:$G$34,"<="&3),NA()) | D4: =IF(3<=$F$2,SUMIFS(Data!$D$2:$D$34,Data!$F$2:$F$34,C$1,Data!$G$2:$G$34,"<="&3),NA())
A5: Apr | B5: =SUMIFS(Data!$B$2:$B$34,Data!$F$2:$F$34,B$1,Data!$G$2:$G$34,"<="&4) | C5: =IF(4<=$F$2,SUMIFS(Data!$B$2:$B$34,Data!$F$2:$F$34,C$1,Data!$G$2:$G$34,"<="&4),NA()) | D5: =IF(4<=$F$2,SUMIFS(Data!$D$2:$D$34,Data!$F$2:$F$34,C$1,Data!$G$2:$G$34,"<="&4),NA())
A6: May | B6: =SUMIFS(Data!$B$2:$B$34,Data!$F$2:$F$34,B$1,Data!$G$2:$G$34,"<="&5) | C6: =IF(5<=$F$2,SUMIFS(Data!$B$2:$B$34,Data!$F$2:$F$34,C$1,Data!$G$2:$G$34,"<="&5),NA()) | D6: =IF(5<=$F$2,SUMIFS(Data!$D$2:$D$34,Data!$F$2:$F$34,C$1,Data!$G$2:$G$34,"<="&5),NA())
A7: Jun | B7: =SUMIFS(Data!$B$2:$B$34,Data!$F$2:$F$34,B$1,Data!$G$2:$G$34,"<="&6) | C7: =IF(6<=$F$2,SUMIFS(Data!$B$2:$B$34,Data!$F$2:$F$34,C$1,Data!$G$2:$G$34,"<="&6),NA()) | D7: =IF(6<=$F$2,SUMIFS(Data!$D$2:$D$34,Data!$F$2:$F$34,C$1,Data!$G$2:$G$34,"<="&6),NA())
A8: Jul | B8: =SUMIFS(Data!$B$2:$B$34,Data!$F$2:$F$34,B$1,Data!$G$2:$G$34,"<="&7) | C8: =IF(7<=$F$2,SUMIFS(Data!$B$2:$B$34,Data!$F$2:$F$34,C$1,Data!$G$2:$G$34,"<="&7),NA()) | D8: =IF(7<=$F$2,SUMIFS(Data!$D$2:$D$34,Data!$F$2:$F$34,C$1,Data!$G$2:$G$34,"<="&7),NA())
A9: Aug | B9: =SUMIFS(Data!$B$2:$B$34,Data!$F$2:$F$34,B$1,Data!$G$2:$G$34,"<="&8) | C9: =IF(8<=$F$2,SUMIFS(Data!$B$2:$B$34,Data!$F$2:$F$34,C$1,Data!$G$2:$G$34,"<="&8),NA()) | D9: =IF(8<=$F$2,SUMIFS(Data!$D$2:$D$34,Data!$F$2:$F$34,C$1,Data!$G$2:$G$34,"<="&8),NA())
A10: Sep | B10: =SUMIFS(Data!$B$2:$B$34,Data!$F$2:$F$34,B$1,Data!$G$2:$G$34,"<="&9) | C10: =IF(9<=$F$2,SUMIFS(Data!$B$2:$B$34,Data!$F$2:$F$34,C$1,Data!$G$2:$G$34,"<="&9),NA()) | D10: =IF(9<=$F$2,SUMIFS(Data!$D$2:$D$34,Data!$F$2:$F$34,C$1,Data!$G$2:$G$34,"<="&9),NA())
A11: Oct | B11: =SUMIFS(Data!$B$2:$B$34,Data!$F$2:$F$34,B$1,Data!$G$2:$G$34,"<="&10) | C11: =IF(10<=$F$2,SUMIFS(Data!$B$2:$B$34,Data!$F$2:$F$34,C$1,Data!$G$2:$G$34,"<="&10),NA()) | D11: =IF(10<=$F$2,SUMIFS(Data!$D$2:$D$34,Data!$F$2:$F$34,C$1,Data!$G$2:$G$34,"<="&10),NA())
A12: Nov | B12: =SUMIFS(Data!$B$2:$B$34,Data!$F$2:$F$34,B$1,Data!$G$2:$G$34,"<="&11) | C12: =IF(11<=$F$2,SUMIFS(Data!$B$2:$B$34,Data!$F$2:$F$34,C$1,Data!$G$2:$G$34,"<="&11),NA()) | D12: =IF(11<=$F$2,SUMIFS(Data!$D$2:$D$34,Data!$F$2:$F$34,C$1,Data!$G$2:$G$34,"<="&11),NA())
A13: Dec | B13: =SUMIFS(Data!$B$2:$B$34,Data!$F$2:$F$34,B$1,Data!$G$2:$G$34,"<="&12) | C13: =IF(12<=$F$2,SUMIFS(Data!$B$2:$B$34,Data!$F$2:$F$34,C$1,Data!$G$2:$G$34,"<="&12),NA()) | D13: =IF(12<=$F$2,SUMIFS(Data!$D$2:$D$34,Data!$F$2:$F$34,C$1,Data!$G$2:$G$34,"<="&12),NA())
A15: Ahead of last year by | B15: =INDEX(C2:C13,$F$2)-INDEX(B2:B13,$F$2) | C15: =B15/INDEX(B2:B13,$F$2)
A16: Without one-offs | B16: =INDEX(D2:D13,$F$2)-INDEX(B2:B13,$F$2) | C16: =B16/INDEX(B2:B13,$F$2)
A18: #N/A in Oct-Dec is deliberate: Excel skips those points instead of drawing the line down to zero.

Sheet Charts

Sheet Your data
A1: Month | B1: Revenue | C1: One-off | D1: Everyday revenue | E1: Trailing 12 months | F1: Year | G1: Month no. | H1: YTD
D2: =IF(B2="","",B2-N(C2)) | F2: =IF(A2="","",YEAR(A2)) | G2: =IF(A2="","",MONTH(A2)) | H2: =IF(B2="","",SUMIFS($B$2:$B$37,$F$2:$F$37,F2,$G$2:$G$37,"<="&G2))
D3: =IF(B3="","",B3-N(C3)) | F3: =IF(A3="","",YEAR(A3)) | G3: =IF(A3="","",MONTH(A3)) | H3: =IF(B3="","",SUMIFS($B$2:$B$37,$F$2:$F$37,F3,$G$2:$G$37,"<="&G3))
D4: =IF(B4="","",B4-N(C4)) | F4: =IF(A4="","",YEAR(A4)) | G4: =IF(A4="","",MONTH(A4)) | H4: =IF(B4="","",SUMIFS($B$2:$B$37,$F$2:$F$37,F4,$G$2:$G$37,"<="&G4))
D5: =IF(B5="","",B5-N(C5)) | F5: =IF(A5="","",YEAR(A5)) | G5: =IF(A5="","",MONTH(A5)) | H5: =IF(B5="","",SUMIFS($B$2:$B$37,$F$2:$F$37,F5,$G$2:$G$37,"<="&G5))
D6: =IF(B6="","",B6-N(C6)) | F6: =IF(A6="","",YEAR(A6)) | G6: =IF(A6="","",MONTH(A6)) | H6: =IF(B6="","",SUMIFS($B$2:$B$37,$F$2:$F$37,F6,$G$2:$G$37,"<="&G6))
D7: =IF(B7="","",B7-N(C7)) | F7: =IF(A7="","",YEAR(A7)) | G7: =IF(A7="","",MONTH(A7)) | H7: =IF(B7="","",SUMIFS($B$2:$B$37,$F$2:$F$37,F7,$G$2:$G$37,"<="&G7))
D8: =IF(B8="","",B8-N(C8)) | F8: =IF(A8="","",YEAR(A8)) | G8: =IF(A8="","",MONTH(A8)) | H8: =IF(B8="","",SUMIFS($B$2:$B$37,$F$2:$F$37,F8,$G$2:$G$37,"<="&G8))
D9: =IF(B9="","",B9-N(C9)) | F9: =IF(A9="","",YEAR(A9)) | G9: =IF(A9="","",MONTH(A9)) | H9: =IF(B9="","",SUMIFS($B$2:$B$37,$F$2:$F$37,F9,$G$2:$G$37,"<="&G9))
D10: =IF(B10="","",B10-N(C10)) | F10: =IF(A10="","",YEAR(A10)) | G10: =IF(A10="","",MONTH(A10)) | H10: =IF(B10="","",SUMIFS($B$2:$B$37,$F$2:$F$37,F10,$G$2:$G$37,"<="&G10))
D11: =IF(B11="","",B11-N(C11)) | F11: =IF(A11="","",YEAR(A11)) | G11: =IF(A11="","",MONTH(A11)) | H11: =IF(B11="","",SUMIFS($B$2:$B$37,$F$2:$F$37,F11,$G$2:$G$37,"<="&G11))
D12: =IF(B12="","",B12-N(C12)) | F12: =IF(A12="","",YEAR(A12)) | G12: =IF(A12="","",MONTH(A12)) | H12: =IF(B12="","",SUMIFS($B$2:$B$37,$F$2:$F$37,F12,$G$2:$G$37,"<="&G12))
D13: =IF(B13="","",B13-N(C13)) | E13: =IF(COUNT(B2:B13)=12,SUM(B2:B13),"") | F13: =IF(A13="","",YEAR(A13)) | G13: =IF(A13="","",MONTH(A13)) | H13: =IF(B13="","",SUMIFS($B$2:$B$37,$F$2:$F$37,F13,$G$2:$G$37,"<="&G13))
D14: =IF(B14="","",B14-N(C14)) | E14: =IF(COUNT(B3:B14)=12,SUM(B3:B14),"") | F14: =IF(A14="","",YEAR(A14)) | G14: =IF(A14="","",MONTH(A14)) | H14: =IF(B14="","",SUMIFS($B$2:$B$37,$F$2:$F$37,F14,$G$2:$G$37,"<="&G14))
D15: =IF(B15="","",B15-N(C15)) | E15: =IF(COUNT(B4:B15)=12,SUM(B4:B15),"") | F15: =IF(A15="","",YEAR(A15)) | G15: =IF(A15="","",MONTH(A15)) | H15: =IF(B15="","",SUMIFS($B$2:$B$37,$F$2:$F$37,F15,$G$2:$G$37,"<="&G15))
D16: =IF(B16="","",B16-N(C16)) | E16: =IF(COUNT(B5:B16)=12,SUM(B5:B16),"") | F16: =IF(A16="","",YEAR(A16)) | G16: =IF(A16="","",MONTH(A16)) | H16: =IF(B16="","",SUMIFS($B$2:$B$37,$F$2:$F$37,F16,$G$2:$G$37,"<="&G16))
D17: =IF(B17="","",B17-N(C17)) | E17: =IF(COUNT(B6:B17)=12,SUM(B6:B17),"") | F17: =IF(A17="","",YEAR(A17)) | G17: =IF(A17="","",MONTH(A17)) | H17: =IF(B17="","",SUMIFS($B$2:$B$37,$F$2:$F$37,F17,$G$2:$G$37,"<="&G17))
D18: =IF(B18="","",B18-N(C18)) | E18: =IF(COUNT(B7:B18)=12,SUM(B7:B18),"") | F18: =IF(A18="","",YEAR(A18)) | G18: =IF(A18="","",MONTH(A18)) | H18: =IF(B18="","",SUMIFS($B$2:$B$37,$F$2:$F$37,F18,$G$2:$G$37,"<="&G18))
D19: =IF(B19="","",B19-N(C19)) | E19: =IF(COUNT(B8:B19)=12,SUM(B8:B19),"") | F19: =IF(A19="","",YEAR(A19)) | G19: =IF(A19="","",MONTH(A19)) | H19: =IF(B19="","",SUMIFS($B$2:$B$37,$F$2:$F$37,F19,$G$2:$G$37,"<="&G19))
D20: =IF(B20="","",B20-N(C20)) | E20: =IF(COUNT(B9:B20)=12,SUM(B9:B20),"") | F20: =IF(A20="","",YEAR(A20)) | G20: =IF(A20="","",MONTH(A20)) | H20: =IF(B20="","",SUMIFS($B$2:$B$37,$F$2:$F$37,F20,$G$2:$G$37,"<="&G20))
D21: =IF(B21="","",B21-N(C21)) | E21: =IF(COUNT(B10:B21)=12,SUM(B10:B21),"") | F21: =IF(A21="","",YEAR(A21)) | G21: =IF(A21="","",MONTH(A21)) | H21: =IF(B21="","",SUMIFS($B$2:$B$37,$F$2:$F$37,F21,$G$2:$G$37,"<="&G21))
D22: =IF(B22="","",B22-N(C22)) | E22: =IF(COUNT(B11:B22)=12,SUM(B11:B22),"") | F22: =IF(A22="","",YEAR(A22)) | G22: =IF(A22="","",MONTH(A22)) | H22: =IF(B22="","",SUMIFS($B$2:$B$37,$F$2:$F$37,F22,$G$2:$G$37,"<="&G22))
D23: =IF(B23="","",B23-N(C23)) | E23: =IF(COUNT(B12:B23)=12,SUM(B12:B23),"") | F23: =IF(A23="","",YEAR(A23)) | G23: =IF(A23="","",MONTH(A23)) | H23: =IF(B23="","",SUMIFS($B$2:$B$37,$F$2:$F$37,F23,$G$2:$G$37,"<="&G23))
D24: =IF(B24="","",B24-N(C24)) | E24: =IF(COUNT(B13:B24)=12,SUM(B13:B24),"") | F24: =IF(A24="","",YEAR(A24)) | G24: =IF(A24="","",MONTH(A24)) | H24: =IF(B24="","",SUMIFS($B$2:$B$37,$F$2:$F$37,F24,$G$2:$G$37,"<="&G24))
... D37: =IF(B37="","",B37-N(C37)) | E37: =IF(COUNT(B26:B37)=12,SUM(B26:B37),"") | F37: =IF(A37="","",YEAR(A37)) | G37: =IF(A37="","",MONTH(A37)) | H37: =IF(B37="","",SUMIFS($B$2:$B$37,$F$2:$F$37,F37,$G$2:$G$37,"<="&G37))
